BEGIN:VCALENDAR
VERSION:2.0
PRODID:-//San Luis Obispo County Tea Party - ECPv6.15.18//NONSGML v1.0//EN
CALSCALE:GREGORIAN
METHOD:PUBLISH
X-WR-CALNAME:San Luis Obispo County Tea Party
X-ORIGINAL-URL:https://sloteaparty.org
X-WR-CALDESC:Events for San Luis Obispo County Tea Party
REFRESH-INTERVAL;VALUE=DURATION:PT1H
X-Robots-Tag:noindex
X-PUBLISHED-TTL:PT1H
BEGIN:VTIMEZONE
TZID:America/Los_Angeles
BEGIN:DAYLIGHT
TZOFFSETFROM:-0800
TZOFFSETTO:-0700
TZNAME:PDT
DTSTART:20200308T100000
END:DAYLIGHT
BEGIN:STANDARD
TZOFFSETFROM:-0700
TZOFFSETTO:-0800
TZNAME:PST
DTSTART:20201101T090000
END:STANDARD
BEGIN:DAYLIGHT
TZOFFSETFROM:-0800
TZOFFSETTO:-0700
TZNAME:PDT
DTSTART:20210314T100000
END:DAYLIGHT
BEGIN:STANDARD
TZOFFSETFROM:-0700
TZOFFSETTO:-0800
TZNAME:PST
DTSTART:20211107T090000
END:STANDARD
BEGIN:DAYLIGHT
TZOFFSETFROM:-0800
TZOFFSETTO:-0700
TZNAME:PDT
DTSTART:20220313T100000
END:DAYLIGHT
BEGIN:STANDARD
TZOFFSETFROM:-0700
TZOFFSETTO:-0800
TZNAME:PST
DTSTART:20221106T090000
END:STANDARD
END:VTIMEZONE
BEGIN:VEVENT
DTSTART;TZID=America/Los_Angeles:20211004T180000
DTEND;TZID=America/Los_Angeles:20211004T200000
DTSTAMP:20260422T080301
CREATED:20210916T022726Z
LAST-MODIFIED:20210916T022726Z
UID:4424-1633370400-1633377600@sloteaparty.org
SUMMARY:Meeting with Speaker Sheriff Ian Parkinson
DESCRIPTION:
URL:https://sloteaparty.org/event/meeting-with-speaker-sheriff-ian-parkinson/
LOCATION:Republican Headquarters – Atascadero\, 7357 El Camino Real\, Atascadero\, CA\, 93422\, United States
CATEGORIES:Meetings
END:VEVENT
BEGIN:VEVENT
DTSTART;TZID=America/Los_Angeles:20210913T180000
DTEND;TZID=America/Los_Angeles:20210913T200000
DTSTAMP:20260422T080301
CREATED:20210829T234904Z
LAST-MODIFIED:20210830T003418Z
UID:4400-1631556000-1631563200@sloteaparty.org
SUMMARY:Meeting with Speaker Judge Steven Bailey
DESCRIPTION:Republican Headquarters\n7357 El Camino Real\nAtascadero\n  \nJudge Steven C. Bailey\n  \nSteven C. Bailey is a retired California Superior Court Judge\, whose diverse assignments included civil\, criminal\, probate and juvenile during his 81/2 years of service. He was elected twice to the Superior Court of El Dorado County\, where he served four years as the Presiding Juvenile Judge and was instrumental in the creation of the county’s Veterans Court. \n \nCampaign Website
URL:https://sloteaparty.org/event/meeting-with-speaker-judge-steven-bailey/
LOCATION:Republican Headquarters – Atascadero\, 7357 El Camino Real\, Atascadero\, CA\, 93422\, United States
CATEGORIES:Meetings
END:VEVENT
BEGIN:VEVENT
DTSTART;TZID=America/Los_Angeles:20210802T180000
DTEND;TZID=America/Los_Angeles:20210802T200000
DTSTAMP:20260422T080301
CREATED:20210715T004328Z
LAST-MODIFIED:20210723T173014Z
UID:4028-1627927200-1627934400@sloteaparty.org
SUMMARY:Meeting with Speaker Eric Early
DESCRIPTION:Eric Early is a husband\, father\, small businessman and attorney who is running for California Attorney General in 2022. \nCome here him speak at our monthly meeting. \nAugust 2nd at 6pm in the Republican headquarters in Atascadero
URL:https://sloteaparty.org/event/meeting-with-speaker-eric-early/
LOCATION:Republican Headquarters – Atascadero\, 7357 El Camino Real\, Atascadero\, CA\, 93422\, United States
CATEGORIES:Meetings
END:VEVENT
BEGIN:VEVENT
DTSTART;TZID=America/Los_Angeles:20210705T180000
DTEND;TZID=America/Los_Angeles:20210705T200000
DTSTAMP:20260422T080301
CREATED:20210623T202823Z
LAST-MODIFIED:20210721T180708Z
UID:3799-1625508000-1625515200@sloteaparty.org
SUMMARY:Meeting with Speaker Police Chief Masterson and Gov Candidate Jenny Rae
DESCRIPTION:This month our meeting will feature speaker Atascadero Police Chief Robert Masterson. He will be addressing the issue of homelessness in San Luis Obispo county and his thoughts and ideas to work through this difficult time. Also\, Special Guest Jenny Rae – Gubernatorial Candidate for California will be speaking candidly about the state of California and why she considers herself the best person to run the Golden State.\n\n\n\n\n\n 
URL:https://sloteaparty.org/event/meeting-with-speaker-police-chief-masterson-and-gov-candidate-jenny-rae/
LOCATION:Republican Headquarters – Atascadero\, 7357 El Camino Real\, Atascadero\, CA\, 93422\, United States
CATEGORIES:Meetings
ATTACH;FMTTYPE=image/jpeg:https://sloteaparty.org/wp-content/uploads/2021/06/police_chief_robert_masterson_and_Jenny_Rae_Candidate_event.jpg
END:VEVENT
BEGIN:VEVENT
DTSTART;TZID=America/Los_Angeles:20210607T180000
DTEND;TZID=America/Los_Angeles:20210607T200000
DTSTAMP:20260422T080301
CREATED:20210601T150002Z
LAST-MODIFIED:20210721T175136Z
UID:3818-1623088800-1623096000@sloteaparty.org
SUMMARY:Meeting with Speaker Andy Caldwell
DESCRIPTION:Come hear Andy Caldwell at the Republican Headquarters in Atascadero
URL:https://sloteaparty.org/event/meeting-with-speaker-andy-caldwell/
LOCATION:Republican Headquarters – Atascadero\, 7357 El Camino Real\, Atascadero\, CA\, 93422\, United States
CATEGORIES:Meetings
ATTACH;FMTTYPE=image/jpeg:https://sloteaparty.org/wp-content/uploads/2021/06/Andy-Caldwell-Event.jpg
END:VEVENT
BEGIN:VEVENT
DTSTART;TZID=America/Los_Angeles:20210503T180000
DTEND;TZID=America/Los_Angeles:20210503T200000
DTSTAMP:20260422T080301
CREATED:20210505T150041Z
LAST-MODIFIED:20210721T174400Z
UID:3813-1620064800-1620072000@sloteaparty.org
SUMMARY:Meeting with Speaker Doug Ose
DESCRIPTION:California Gubernatorial Candidate \nDoug Ose \nspeaking on the current status of the state and his plans on making things much better. \nAlso Speaking; \n\nChris Arend – Paso Robles School Board – Update on Ethnics Studies\nSue Roedeck – Gavin Newsom Recall Update\nFranco Jira – Atascadero High Graduate now Attending Harvard
URL:https://sloteaparty.org/event/meeting-with-speaker-doug-ose/
LOCATION:Republican Headquarters – Atascadero\, 7357 El Camino Real\, Atascadero\, CA\, 93422\, United States
CATEGORIES:Meetings
ATTACH;FMTTYPE=image/jpeg:https://sloteaparty.org/wp-content/uploads/2021/05/doug-ose.jpg
END:VEVENT
BEGIN:VEVENT
DTSTART;TZID=America/Los_Angeles:20210405T180000
DTEND;TZID=America/Los_Angeles:20210405T200000
DTSTAMP:20260422T080301
CREATED:20210401T150041Z
LAST-MODIFIED:20210721T182500Z
UID:3808-1617645600-1617652800@sloteaparty.org
SUMMARY:Meeting with Speaker Jim McKeighan
DESCRIPTION:Hear Jim McKeighan an NRA firearms instructor tell \nyou how to “Refuse to be a Victim” and talk basic gun \nsafety training. \nAlso hear “Turning Point USA” Cuesta College Representative \nCarmen Whalen speak on how the youth is uniting to fight for our \nconstitutional rights.
URL:https://sloteaparty.org/event/meeting-with-speaker-jim-mckeighan/
LOCATION:Republican Headquarters – Atascadero\, 7357 El Camino Real\, Atascadero\, CA\, 93422\, United States
CATEGORIES:Meetings
ATTACH;FMTTYPE=image/jpeg:https://sloteaparty.org/wp-content/uploads/2021/04/2nd-amendment-Jim-McKeighan-event.jpg
END:VEVENT
END:VCALENDAR